BEGIN:VCALENDAR
VERSION:2.0
PRODID:-//Scarborough Chinese Alliance Church (仕宣) - ECPv6.10.2//NONSGML v1.0//EN
CALSCALE:GREGORIAN
METHOD:PUBLISH
X-WR-CALNAME:Scarborough Chinese Alliance Church (仕宣)
X-ORIGINAL-URL:https://www.scac.org/en/
X-WR-CALDESC:Events for Scarborough Chinese Alliance Church (仕宣)
REFRESH-INTERVAL;VALUE=DURATION:PT1H
X-Robots-Tag:noindex
X-PUBLISHED-TTL:PT1H
BEGIN:VTIMEZONE
TZID:America/Halifax
BEGIN:DAYLIGHT
TZOFFSETFROM:-0400
TZOFFSETTO:-0300
TZNAME:ADT
DTSTART:20260308T060000
END:DAYLIGHT
BEGIN:STANDARD
TZOFFSETFROM:-0300
TZOFFSETTO:-0400
TZNAME:AST
DTSTART:20261101T050000
END:STANDARD
END:VTIMEZONE
BEGIN:VEVENT
DTSTART;TZID=America/Halifax:20260410T200000
DTEND;TZID=America/Halifax:20260410T220000
DTSTAMP:20260421T142854
CREATED:20260307T200009Z
LAST-MODIFIED:20260307T200009Z
UID:19044-1775851200-1775858400@www.scac.org
SUMMARY:陳芷盈音樂生命分享會
DESCRIPTION:傳道部: 陳芷盈音樂生命分享會：由恩雨之聲舉辦，本會協辦。\n日期：4月10日(週五)\n時間：晚上8:00\n地點：仕宣大堂舉行\n詳情請參閱海報
URL:https://www.scac.org/en/event/20260410/
LOCATION:SCAC\, 139 Silver Star Blvd.\, Toronto\, M1V4V8\, Canada
CATEGORIES:活動消息
ATTACH;FMTTYPE=image/jpeg:https://www.scac.org/wp-content/uploads/2026/03/PHOTO-2026-02-09-13-05-36.jpg
END:VEVENT
END:VCALENDAR